BEGIN:VCALENDAR
VERSION:2.0
CALSCALE:GREGORIAN
PRODID:-//Diputació de Barcelona//DibaCMS//EN
BEGIN:VEVENT
UID:3416
DTSTAMP:20260424T170526
DTSTART:20260519T175000
DTEND:20260519T190000
SUMMARY:Dones i esport: Preparem la Cursa del Serrat Llobater
LOCATION:Lloc de trobada: Parc dels Castanyers 
METHOD:PUBLISH
X-WR-CALNAME:sfs.ajuntament@santfeliusasserra.cat
X-WR-TIMEZONE:Europe/Madrid
DESCRIPTION:Dones i esport: Preparem la Cursa del Serrat Llobater

URI:https://www.santfeliusasserra.cat/actualitat/agenda/dones-i-esport-preparem-la-cursa-del-serrat-llobater.html
CLASS:PUBLIC
END:VEVENT
END:VCALENDAR
