BEGIN:VCALENDAR
VERSION:2.0
CALSCALE:GREGORIAN
PRODID:-//Diputació de Barcelona//DibaCMS//EN
BEGIN:VEVENT
UID:3404
DTSTAMP:20260421T124859
DTSTART:20260426T180000
DTEND:20260426T200000
SUMMARY:Concert a l'Església de Sant Feliu Sasserra XVI Cicle de concerts a temples romànics
LOCATION:Església de Sant Feliu Sasserra 
METHOD:PUBLISH
X-WR-CALNAME:sfs.ajuntament@santfeliusasserra.cat
X-WR-TIMEZONE:Europe/Madrid
DESCRIPTION:Visita guiada al Centre d'Interpretació de la Bruixeria i Concert a l'Església

URI:https://www.santfeliusasserra.cat/actualitat/agenda/concert-a-lesglesia-de-sant-feliu-sasserra-xvi-cicle-de-concerts-a-temples-romanics.html
CLASS:PUBLIC
END:VEVENT
END:VCALENDAR
