BEGIN:VCALENDAR
VERSION:2.0
CALSCALE:GREGORIAN
PRODID:-//Diputació de Barcelona//DibaCMS//EN
BEGIN:VEVENT
UID:3400
DTSTAMP:20260421T130720
DTSTART:20260423T153000
DTEND:20260423T163000
SUMMARY:Sant Jordi - Cantem i cantem contes amb Raul Benitez
LOCATION:Parc dels Castanyers 
METHOD:PUBLISH
X-WR-CALNAME:sfs.ajuntament@santfeliusasserra.cat
X-WR-TIMEZONE:Europe/Madrid
DESCRIPTION:Cantem i cantem contes amb Raul Benitez

URI:https://www.santfeliusasserra.cat/actualitat/agenda/sant-jordi-cantem-i-cantem-contes-amb-raul-benitez.html
CLASS:PUBLIC
END:VEVENT
END:VCALENDAR
