BEGIN:VCALENDAR
VERSION:2.0
CALSCALE:GREGORIAN
PRODID:-//Diputació de Barcelona//DibaCMS//EN
BEGIN:VEVENT
UID:3371
DTSTAMP:20260421T192745
DTSTART:20260313T110000
DTEND:20260313T130000
SUMMARY:Celebració dels 25 anys de l'Àrea Bàsica d'Artés 
LOCATION:CAP de Sant Feliu Sasserra 
METHOD:PUBLISH
X-WR-CALNAME:sfs.ajuntament@santfeliusasserra.cat
X-WR-TIMEZONE:Europe/Madrid
DESCRIPTION:Celebració dels 25 anys de l'Àrea Bàsica d'Artés 

URI:https://www.santfeliusasserra.cat/actualitat/agenda/celebracio-dels-25-anys-de-larea-basica-dartes-.html
CLASS:PUBLIC
END:VEVENT
END:VCALENDAR
