BEGIN:VCALENDAR
VERSION:2.0
CALSCALE:GREGORIAN
PRODID:-//Diputació de Barcelona//DibaCMS//EN
BEGIN:VEVENT
UID:3370
DTSTAMP:20260421T210637
DTSTART:20260320T190000
DTEND:20260320T203000
SUMMARY:Xerrada "Vivim gaudint" amb Ramon Soler i Riba
LOCATION:
METHOD:PUBLISH
X-WR-CALNAME:sfs.ajuntament@santfeliusasserra.cat
X-WR-TIMEZONE:Europe/Madrid
DESCRIPTION:Xerrada "Vivim gaudint" amb Ramon Soler i Riba

URI:https://www.santfeliusasserra.cat/actualitat/agenda/xerrada-vivim-gaudint-amb-ramon-soler-i-riba.html
CLASS:PUBLIC
END:VEVENT
END:VCALENDAR
