BEGIN:VCALENDAR
VERSION:2.0
CALSCALE:GREGORIAN
PRODID:-//Diputació de Barcelona//DibaCMS//EN
BEGIN:VEVENT
UID:3348
DTSTAMP:20260421T174522
DTSTART:20260525T000000
DTEND:20260525T000000
SUMMARY:Festa Local Sant Feliu Sasserra
LOCATION:
METHOD:PUBLISH
X-WR-CALNAME:sfs.ajuntament@santfeliusasserra.cat
X-WR-TIMEZONE:Europe/Madrid
DESCRIPTION:Festa Local Sant Feliu Sasserra

URI:https://www.santfeliusasserra.cat/actualitat/agenda/festa-local-sant-feliu-sasserra.html
CLASS:PUBLIC
END:VEVENT
END:VCALENDAR
