BEGIN:VCALENDAR
VERSION:2.0
CALSCALE:GREGORIAN
PRODID:-//Diputació de Barcelona//DibaCMS//EN
BEGIN:VEVENT
UID:3347
DTSTAMP:20260421T192238
DTSTART:20260211T094500
DTEND:20260211T110500
SUMMARY:Banca Mòbil a Sant Feliu Sasserra  - Caixa Enginyers
LOCATION:Pas Nou 
METHOD:PUBLISH
X-WR-CALNAME:sfs.ajuntament@santfeliusasserra.cat
X-WR-TIMEZONE:Europe/Madrid
DESCRIPTION:Banca Mòbil és un servei que ofereix la Generalitat de Catalunya a través de les entitats de crèdit Caixa Enginyers i CaixaBank

URI:https://www.santfeliusasserra.cat/actualitat/agenda/3347-banca-mobil-a-sant-feliu-sasserra-caixa-enginyers.html
CLASS:PUBLIC
END:VEVENT
END:VCALENDAR
