BEGIN:VCALENDAR
VERSION:2.0
CALSCALE:GREGORIAN
PRODID:-//Diputació de Barcelona//DibaCMS//EN
BEGIN:VEVENT
UID:3345
DTSTAMP:20260421T210652
DTSTART:20260201T170000
DTEND:20260201T200000
SUMMARY:Cinema infantil "El secret de la mallerenga"
LOCATION:Sala gran de l'Ateneu 
METHOD:PUBLISH
X-WR-CALNAME:sfs.ajuntament@santfeliusasserra.cat
X-WR-TIMEZONE:Europe/Madrid
DESCRIPTION:Taller + projecció "El secret de la mallerenga"

URI:https://www.santfeliusasserra.cat/actualitat/agenda/cinema-infantil-el-secret-de-la-mallerenga.html
CLASS:PUBLIC
END:VEVENT
END:VCALENDAR
