BEGIN:VCALENDAR
VERSION:2.0
CALSCALE:GREGORIAN
PRODID:-//Diputació de Barcelona//DibaCMS//EN
BEGIN:VEVENT
UID:3343
DTSTAMP:20260421T191822
DTSTART:20260123T190000
DTEND:20260123T200000
SUMMARY:Xerrada sobre simbologia
LOCATION:Biblioteca Sant Pere Almató 
METHOD:PUBLISH
X-WR-CALNAME:sfs.ajuntament@santfeliusasserra.cat
X-WR-TIMEZONE:Europe/Madrid
DESCRIPTION:Xerrada sobre simbologia amb Pepita Vidal Francino

URI:https://www.santfeliusasserra.cat/actualitat/agenda/xerrada-sobre-simbologia.html
CLASS:PUBLIC
END:VEVENT
END:VCALENDAR
