BEGIN:VCALENDAR
VERSION:2.0
CALSCALE:GREGORIAN
PRODID:-//Diputació de Barcelona//DibaCMS//EN
BEGIN:VEVENT
UID:3086
DTSTAMP:20260421T111127
DTSTART:20241229T180000
DTEND:20241229T200000
SUMMARY:Arribada del Missatger Reial
LOCATION:Plaça Major 
METHOD:PUBLISH
X-WR-CALNAME:sfs.ajuntament@santfeliusasserra.cat
X-WR-TIMEZONE:Europe/Madrid
DESCRIPTION:Esperem que t'hagis portat bé i que tinguis la carta a punt, perquè arriba el Patge Reial per portar els teus desitjos a les mans dels Reis Mags

URI:https://www.santfeliusasserra.cat/actualitat/agenda/3086-arribada-del-missatger-reial.html
CLASS:PUBLIC
END:VEVENT
END:VCALENDAR
