BEGIN:VCALENDAR
VERSION:2.0
CALSCALE:GREGORIAN
PRODID:-//Diputació de Barcelona//DibaCMS//EN
BEGIN:VEVENT
UID:3084
DTSTAMP:20260421T192930
DTSTART:20241225T180000
DTEND:20241225T200000
SUMMARY:Vine a fer cagar el tió del poble!
LOCATION:Plaça de l'Església 
METHOD:PUBLISH
X-WR-CALNAME:sfs.ajuntament@santfeliusasserra.cat
X-WR-TIMEZONE:Europe/Madrid
DESCRIPTION:Gaudeix d'un ambient nadalenc amb xocolatada i concert

URI:https://www.santfeliusasserra.cat/actualitat/agenda/3084-vine-a-fer-cagar-el-tio-del-poble.html
CLASS:PUBLIC
END:VEVENT
END:VCALENDAR
