BEGIN:VCALENDAR
VERSION:2.0
CALSCALE:GREGORIAN
PRODID:-//Diputació de Barcelona//DibaCMS//EN
BEGIN:VEVENT
UID:3057
DTSTAMP:20260421T123807
DTSTART:20241124T180000
DTEND:20241124T200000
SUMMARY:Teatre "El Florido Pensil"
LOCATION:Ateneu 
METHOD:PUBLISH
X-WR-CALNAME:sfs.ajuntament@santfeliusasserra.cat
X-WR-TIMEZONE:Europe/Madrid
DESCRIPTION:Vine a teatre "El Florido Pensil"

URI:https://www.santfeliusasserra.cat/actualitat/agenda/teatre-el-florido-pensil.html
CLASS:PUBLIC
END:VEVENT
END:VCALENDAR
