BEGIN:VCALENDAR
VERSION:2.0
CALSCALE:GREGORIAN
PRODID:-//Diputació de Barcelona//DibaCMS//EN
BEGIN:VEVENT
UID:3043
DTSTAMP:20260419T160633
DTSTART:20241027T120000
DTEND:20241027T130000
SUMMARY:“TALLER LGTBIQA+” amb Brigitta Lamoure
LOCATION:Sala de l'Ateneu 
METHOD:PUBLISH
X-WR-CALNAME:sfs.ajuntament@santfeliusasserra.cat
X-WR-TIMEZONE:Europe/Madrid
DESCRIPTION:Taller humorístic i divulgatiu de les sigles del col·lectiu LGTBIQA+. Adreçat a tota la família, especialment a la gent gran i a la quitxalla

URI:https://www.santfeliusasserra.cat/actualitat/agenda/taller-lgtbiqa-amb-brigitta-lamoure.html
CLASS:PUBLIC
END:VEVENT
END:VCALENDAR
