BEGIN:VCALENDAR
VERSION:2.0
CALSCALE:GREGORIAN
PRODID:-//Diputació de Barcelona//DibaCMS//EN
BEGIN:VEVENT
UID:2925
DTSTAMP:20260421T130241
DTSTART:20240526T083000
DTEND:20240526T140000
SUMMARY:1r Torneig de petanca de Sant Feliu Sasserra
LOCATION:Pistes Benjamí Vilageliu Codina i al Camp de Futbol 
METHOD:PUBLISH
X-WR-CALNAME:sfs.ajuntament@santfeliusasserra.cat
X-WR-TIMEZONE:Europe/Madrid
DESCRIPTION:Modalitat dobletes muntades

URI:https://www.santfeliusasserra.cat/actualitat/agenda/1r-torneig-de-petanca-de-sant-feliu-sasserra.html
CLASS:PUBLIC
END:VEVENT
END:VCALENDAR
