BEGIN:VCALENDAR
VERSION:2.0
CALSCALE:GREGORIAN
PRODID:-//Diputació de Barcelona//DibaCMS//EN
BEGIN:VEVENT
UID:2921
DTSTAMP:20260421T124013
DTSTART:20240517T190000
DTEND:20240517T200000
SUMMARY:Club de lectura amb la presència de l'autora Maria Carme Roca
LOCATION:Biblioteca Sant Pere Almató 
METHOD:PUBLISH
X-WR-CALNAME:sfs.ajuntament@santfeliusasserra.cat
X-WR-TIMEZONE:Europe/Madrid
DESCRIPTION:Club de lectura amb la presència de l'autora Maria Carme Roca "Les illes interiors"

URI:https://www.santfeliusasserra.cat/actualitat/agenda/club-de-lectura-amb-la-presencia-de-lautora-maria-carme-roca.html
CLASS:PUBLIC
END:VEVENT
END:VCALENDAR
