BEGIN:VCALENDAR
VERSION:2.0
CALSCALE:GREGORIAN
PRODID:-//Diputació de Barcelona//DibaCMS//EN
BEGIN:VEVENT
UID:2904
DTSTAMP:20260421T173730
DTSTART:20240426T190000
DTEND:20240426T200000
SUMMARY:Xerrada sobre energies a càrrec de Nuskanna
LOCATION:Biblioteca Sant Pere Almató 
METHOD:PUBLISH
X-WR-CALNAME:sfs.ajuntament@santfeliusasserra.cat
X-WR-TIMEZONE:Europe/Madrid
DESCRIPTION:
URI:https://www.santfeliusasserra.cat/actualitat/agenda/xerrada-sobre-energies-a-carrec-de-nuskanna.html
CLASS:PUBLIC
END:VEVENT
END:VCALENDAR
